BEGIN:VCALENDAR
VERSION:2.0
PRODID:-//Wish Tower Friends - ECPv6.15.20//NONSGML v1.0//EN
CALSCALE:GREGORIAN
METHOD:PUBLISH
X-ORIGINAL-URL:https://wishtower.org.uk
X-WR-CALDESC:Events for Wish Tower Friends
REFRESH-INTERVAL;VALUE=DURATION:PT1H
X-Robots-Tag:noindex
X-PUBLISHED-TTL:PT1H
BEGIN:VTIMEZONE
TZID:Europe/London
BEGIN:DAYLIGHT
TZOFFSETFROM:+0000
TZOFFSETTO:+0100
TZNAME:BST
DTSTART:20240331T010000
END:DAYLIGHT
BEGIN:STANDARD
TZOFFSETFROM:+0100
TZOFFSETTO:+0000
TZNAME:GMT
DTSTART:20241027T010000
END:STANDARD
BEGIN:DAYLIGHT
TZOFFSETFROM:+0000
TZOFFSETTO:+0100
TZNAME:BST
DTSTART:20250330T010000
END:DAYLIGHT
BEGIN:STANDARD
TZOFFSETFROM:+0100
TZOFFSETTO:+0000
TZNAME:GMT
DTSTART:20251026T010000
END:STANDARD
BEGIN:DAYLIGHT
TZOFFSETFROM:+0000
TZOFFSETTO:+0100
TZNAME:BST
DTSTART:20260329T010000
END:DAYLIGHT
BEGIN:STANDARD
TZOFFSETFROM:+0100
TZOFFSETTO:+0000
TZNAME:GMT
DTSTART:20261025T010000
END:STANDARD
END:VTIMEZONE
BEGIN:VEVENT
DTSTART;TZID=Europe/London:20250505T110000
DTEND;TZID=Europe/London:20250505T123000
DTSTAMP:20260421T192913
CREATED:20250411T140436Z
LAST-MODIFIED:20250411T142709Z
UID:3131-1746442800-1746448200@wishtower.org.uk
SUMMARY:Architectural Tour - Monday 5th May
DESCRIPTION:The Wish Tower Friends are delighted to offer a special architectural tour of the Wish Tower. Over the course of 90 minutes\, learn about the design features and quirks of Martello Towers\, and what changes have been made to our own Tower 73 throughout the years. \nEntry is free\, but pre-booking below is essential!  \nComplete the booking below\, and then you will shortly receive an automatic email confirmation. Make sure to check your spam folder! \nPlease note that unfortunately\, there is no disabled access to the Tower. \nThe wonderful support of our visitors raised over £1\,500 last year towards vital maintenance of our Tower\, helping to keep this historic site open to the public. \nAny donations you are able to make are tremendously appreciated\, and will go towards ensuring we can keep the Tower safely open for visitors. You can also donate online to support our local heritage. \nPlease get in touch if you have any questions or encounter any difficulties booking.
URL:https://wishtower.org.uk/event/architectural-tour-monday-5th-may
LOCATION:Wish Tower\, Wish Tower\, Eastbourne\, BN21 4BY\, United Kingdom
CATEGORIES:Tours
ATTACH;FMTTYPE=image/png:https://wishtower.org.uk/wp-content/uploads/2025/04/ArchTour20250505.png
END:VEVENT
END:VCALENDAR